BEGIN:VCALENDAR
VERSION:2.0
PRODID:-//hacksw/handcal//NONSGML v1.0//EN
BEGIN:VEVENT
DTSTART:20240617T170000Z
DTEND:20240617T203000Z
LOCATION:Marcel Vieille-Ville \n5, Rue de la Tour-de-Boël \n1204 GENEVE
ORGANIZER;CN=Irène Burietz:MAILTO:i.burietz@ieseg.fr
SUMMARY:[INTERNATIONAL CLUB]  Afterwork @ Marcel Vieille-Ville - Geneva
DESCRIPTION:New representatives for the Geneva Club! Join Capucine, Aurélie & Chloé for their first event 🥂Capucine Compagnion-Barbry (Grande École 2023 & Master in Fashion Management 2024), Aurélie Moufle...
URL:https://www.ieseg-network.com/en/event/-international-club-afterwork-marcel-vieille-ville-geneva/2024/06/17/1157
BEGIN:VALARM
TRIGGER:-P0DT1H0M0S
ACTION:DISPLAY
END:VALARM
END:VEVENT
END:VCALENDAR