BEGIN:VCALENDAR
VERSION:2.0
PRODID:-//hacksw/handcal//NONSGML v1.0//EN
BEGIN:VEVENT
DTSTART:20240901T040000Z
DTEND:20250831T210000Z
LOCATION:
ORGANIZER;CN=IÉSEG Network:MAILTO:admin.formation@alumnforcee.com
SUMMARY:[LIFELONG LEARNING] Get your LINKED IN LEARNING license
DESCRIPTION:IÉSEG Network offers you a license to LinkedIn LearningUpdate your skills and advance your careerAdopting a culture of lifelong learning has become a real challenge in the face of the profound and...
URL:https://www.ieseg-network.com/en/event/-lifelong-learning-get-your-linked-in-learning-license/2024/09/01/1214
BEGIN:VALARM
TRIGGER:-P0DT1H0M0S
ACTION:DISPLAY
END:VALARM
END:VEVENT
END:VCALENDAR