BEGIN:VCALENDAR
VERSION:2.0
PRODID:-//hacksw/handcal//NONSGML v1.0//EN
BEGIN:VEVENT
DTSTART:20260622T163000Z
DTEND:20260622T183000Z
LOCATION:
ORGANIZER;CN=Elizabeth Toucas:MAILTO:e.toucas@ieseg.fr
SUMMARY:[WORKSHOP] Finishing Your To-Do List: What if Time Was the Wrong Culprit?
DESCRIPTION:Finishing Your To-Do List: What if Time Was the Wrong Culprit?What if the problem isn’t time... but our relationship with it?We’ve learned to rush, to fill, to optimize time. To add all sorts of tasks...
URL:https://www.ieseg-network.com/en/event/-workshop-finishing-your-to-do-list-what-if-time-was-the-wrong-culprit/2026/06/22/1478
BEGIN:VALARM
TRIGGER:-P0DT1H0M0S
ACTION:DISPLAY
END:VALARM
END:VEVENT
END:VCALENDAR