BEGIN:VCALENDAR
VERSION:2.0
PRODID:-//hacksw/handcal//NONSGML v1.0//EN
BEGIN:VEVENT
DTSTART:20240617T170000Z
DTEND:20240617T203000Z
LOCATION:Marcel Vieille-Ville \n5, Rue de la Tour-de-Boël \n1204 GENEVE
ORGANIZER;CN=Irène Burietz:MAILTO:i.burietz@ieseg.fr
SUMMARY:[CLUB INTERNATIONAL]  Afterwork @ Marcel Vieille-Ville - Genève
DESCRIPTION:Nouvelles représentantes pour le club Genève ! Participez au premier évènement de Capucine, Aurélie & Chloé 🥂Capucine Compagnion-Barbry (Grande École 2023 & Master in Fashion Management 2024), Aurélie...
URL:https://www.ieseg-network.com/fr/event/-club-international-afterwork-marcel-vieille-ville-geneve/2024/06/17/1157
BEGIN:VALARM
TRIGGER:-P0DT1H0M0S
ACTION:DISPLAY
END:VALARM
END:VEVENT
END:VCALENDAR