BEGIN:VCALENDAR
VERSION:2.0
PRODID:-//hacksw/handcal//NONSGML v1.0//EN
BEGIN:VEVENT
DTSTART:20240901T040000Z
DTEND:20250831T210000Z
LOCATION:
ORGANIZER;CN=IÉSEG Network:MAILTO:admin.formation@alumnforcee.com
SUMMARY:[LIFELONG LEARNING] Obtenez votre licence LINKED IN LEARNING
DESCRIPTION:IÉSEG Network vous offre votre licence à LinkedIn Learning\nMettez à jour vos compétences et progressez dans votre carrièreAdopter une culture d’apprentissage tout au long de sa vie est devenu un...
URL:https://www.ieseg-network.com/fr/event/-lifelong-learning-obtenez-votre-licence-linked-in-learning/2024/09/01/1214
BEGIN:VALARM
TRIGGER:-P0DT1H0M0S
ACTION:DISPLAY
END:VALARM
END:VEVENT
END:VCALENDAR