BEGIN:VCALENDAR
VERSION:2.0
PRODID:-//hacksw/handcal//NONSGML v1.0//EN
BEGIN:VEVENT
DTSTART:20260622T163000Z
DTEND:20260622T183000Z
LOCATION:
ORGANIZER;CN=Elizabeth Toucas:MAILTO:e.toucas@ieseg.fr
SUMMARY:[ATELIER] Finir sa to-do list : et si le temps était un faux coupable ?
DESCRIPTION:Finir sa to-do list : et si le temps était un faux coupable ?Et si le problème n’était pas le temps… mais la relation que nous avons avec lui ?Nous avons appris à nous dépêcher, à remplir, à optimiser...
URL:https://www.ieseg-network.com/fr/event/-atelier-finir-sa-to-do-list-et-si-le-temps-etait-un-faux-coupable/2026/06/22/1478
BEGIN:VALARM
TRIGGER:-P0DT1H0M0S
ACTION:DISPLAY
END:VALARM
END:VEVENT
END:VCALENDAR