BEGIN:VCALENDAR
VERSION:2.0
PRODID:-//hacksw/handcal//NONSGML v1.0//EN
BEGIN:VEVENT
DTSTART:20221212T120000
DTEND:20221212T130000
LOCATION:
ORGANIZER;CN=IÉSEG Network:MAILTO:admin.formation@alumnforcee.com
SUMMARY:[TABLE RONDE FONDATION] Egalité des chances et mécénat à l’IÉSEG
DESCRIPTION:A l’occasion du #GIVINGTUESDAY, la Fondation I֤ÉSEG vous invite à une table ronde, « Egalité des chances et mécénat à l’IÉSEG » !\nÀ propos de cet évènement\nQu’est-ce que l’égalité des chances à...
URL:https://www.ieseg-network.com/fr/event/-table-ronde-fondation-egalite-des-chances-et-mecenat-a-l-ieseg/2022/12/12/182
BEGIN:VALARM
TRIGGER:-P0DT1H0M0S
ACTION:DISPLAY
END:VALARM
END:VEVENT
END:VCALENDAR